BEGIN:VCALENDAR
VERSION:2.0
BEGIN:VEVENT
UID:49DC8865-A68D-439F-A329-532E3A6F5CC9
DTSTART:20240426T220000Z
DTEND:20240427T010000Z
SUMMARY:Stan's Friday Night Live: Local Union
DESCRIPTION:Stan's is the place to be every Friday! Don't miss our FRIDAY N
 IGHT LIVE MUSIC LINE-UP with some of the hottest local bands! Sponsored by
  Busch Light and Jim Beam. \nLOCAL UNION takes the main stage from 10PM-1A
 M Friday\, April 26! $6 JIM BEAM SPECIAL! \nPlus\, on the FIRST FRIDAY of
  every month\, we're serving up 75 cent pints from 8-10PM followed by our
  resident DJ Sam Southern spinning tunes starting at 10PM. Sponsored by Bu
 sch Light.\nStan's Blue Note\n280 Greenville Ave\nDallas\, TX 75206 United
  States\n
LOCATION:280 Greenville Ave\, Dallas\, TX 75206
URL:http://rockwall.bubblelife.com/community/brn_media/library/35227512/key
 /3511287274/Stans_Friday_Night_Live_Local_Union
CREATED:20240423T165922Z
LAST-MODIFIED:20240423T165922Z
DTSTAMP:20260420T021814Z
CLASS:PUBLIC
STATUS:CONFIRMED
TRANSP:TRANSPARENT
SEQUENCE:1
END:VEVENT
END:VCALENDAR
